BEGIN:VCALENDAR
VERSION:2.0
PRODID:-//Contratero//ES
CALSCALE:GREGORIAN
METHOD:PUBLISH
BEGIN:VEVENT
UID:SER/2025/0000111156@contratero.es
DTSTAMP:20260420T211313Z
DTSTART:20251018T235959
DTEND:20251019T005959
SUMMARY:Cierre: El objeto del contrato será la realización del man
DESCRIPTION:El objeto del contrato será la realización del mantenimiento\, evolución y gestión de la solución software para el Sistema denformación de la Gestión en Materia de Dependencia en Canarias (SIDECAN)\\n\\nOrganismo: Consejería de Bienestar Social\, Igualdad\, Juventud\, Infancia y Familias\\n\\nVer en Contratero: https://contratero.es/contracts/SER/2025/0000111156
URL:https://contratero.es/contracts/SER/2025/0000111156
STATUS:CONFIRMED
BEGIN:VALARM
TRIGGER:-P1D
ACTION:DISPLAY
DESCRIPTION:Recordatorio: El objeto del contrato será la
END:VALARM
END:VEVENT
END:VCALENDAR