BEGIN:VCALENDAR
VERSION:2.0
PRODID:-//Contratero//ES
CALSCALE:GREGORIAN
METHOD:PUBLISH
BEGIN:VEVENT
UID:SER/2025/0000122101@contratero.es
DTSTAMP:20260420T190218Z
DTSTART:20251017T235959
DTEND:20251018T005959
SUMMARY:Cierre: Servicio  para el desarrollo de los Sistemas de Re
DESCRIPTION:Servicio  para el desarrollo de los Sistemas de Reconocimiento de la situación de Dependencia\, Renta Canaria de Ciudadanía yGestión de las relaciones con PARCAN\, Componente 22-I2\, por procedimiento ab...\\n\\nOrganismo: Viceconsejería de Derechos Sociales\\n\\nVer en Contratero: https://contratero.es/contracts/SER/2025/0000122101
URL:https://contratero.es/contracts/SER/2025/0000122101
STATUS:CONFIRMED
BEGIN:VALARM
TRIGGER:-P1D
ACTION:DISPLAY
DESCRIPTION:Recordatorio: Servicio  para el desarrollo d
END:VALARM
END:VEVENT
END:VCALENDAR