BEGIN:VCALENDAR
VERSION:2.0
PRODID:-//Contratero//ES
CALSCALE:GREGORIAN
METHOD:PUBLISH
BEGIN:VEVENT
UID:SER/2025/0000122696@contratero.es
DTSTAMP:20260421T072255Z
DTSTART:20251002T235959
DTEND:20251003T005959
SUMMARY:Cierre: Servicios de implantación y puesta en marcha de un
DESCRIPTION:Servicios de implantación y puesta en marcha de una herramienta copiloto para atender a respuestas frente a alarmas del Plan deAtención Digital Personalizada del Servicio Canario de la Salud\,mediante ...\\n\\nOrganismo: Dirección del Servicio Canario de Salud\\n\\nVer en Contratero: https://contratero.es/contracts/SER/2025/0000122696
URL:https://contratero.es/contracts/SER/2025/0000122696
STATUS:CONFIRMED
BEGIN:VALARM
TRIGGER:-P1D
ACTION:DISPLAY
DESCRIPTION:Recordatorio: Servicios de implantación y pu
END:VALARM
END:VEVENT
END:VCALENDAR