BEGIN:VCALENDAR
VERSION:2.0
PRODID:-//Contratero//ES
CALSCALE:GREGORIAN
METHOD:PUBLISH
BEGIN:VEVENT
UID:SER/2025/0000134972@contratero.es
DTSTAMP:20260425T230256Z
DTSTART:20251022T235959
DTEND:20251023T005959
SUMMARY:Cierre: El objeto del contrato es la implantación\, manteni
DESCRIPTION:El objeto del contrato es la implantación\, mantenimiento y soporte del Sistema de Información de administración de medicamentos enunidades neonatales y pediátricas con los recursos suficientes y adecu...\\n\\nOrganismo: Secretaria General del Servicio Canario de Salud\\n\\nVer en Contratero: https://contratero.es/contracts/SER/2025/0000134972
URL:https://contratero.es/contracts/SER/2025/0000134972
STATUS:CONFIRMED
BEGIN:VALARM
TRIGGER:-P1D
ACTION:DISPLAY
DESCRIPTION:Recordatorio: El objeto del contrato es la i
END:VALARM
END:VEVENT
END:VCALENDAR