BEGIN:VCALENDAR
VERSION:2.0
PRODID:-//Contratero//ES
CALSCALE:GREGORIAN
METHOD:PUBLISH
BEGIN:VEVENT
UID:SER/2025/0000154646@contratero.es
DTSTAMP:20260422T120910Z
DTSTART:20251128T235959
DTEND:20251129T005959
SUMMARY:Cierre: El presente servicio tiene como objetivo el desarr
DESCRIPTION:El presente servicio tiene como objetivo el desarrollo\, implantación y mantenimiento de una solución tecnológica integral para la gestión de proyectos corporativos\, que proporcione una visión estructu...\\n\\nOrganismo: Dirección del Servicio Canario de Salud\\n\\nVer en Contratero: https://contratero.es/contracts/SER/2025/0000154646
URL:https://contratero.es/contracts/SER/2025/0000154646
STATUS:CONFIRMED
BEGIN:VALARM
TRIGGER:-P1D
ACTION:DISPLAY
DESCRIPTION:Recordatorio: El presente servicio tiene com
END:VALARM
END:VEVENT
END:VCALENDAR