BEGIN:VCALENDAR
VERSION:2.0
PRODID:-//Contratero//ES
CALSCALE:GREGORIAN
METHOD:PUBLISH
BEGIN:VEVENT
UID:SER/2025/0000169316@contratero.es
DTSTAMP:20260420T104359Z
DTSTART:20260224T235959
DTEND:20260225T005959
SUMMARY:Cierre: el objeto de la presente contratación consiste en 
DESCRIPTION:el objeto de la presente contratación consiste en la prestación de un servicio de desarrollo evolutivo\, soporte técnico ymantenimiento del software SIGAP-PAC\, consistente en un aplicativo de Planifica...\\n\\nOrganismo: Dirección General de Seguridad del Gobierno de Canarias\\n\\nVer en Contratero: https://contratero.es/contracts/SER/2025/0000169316
URL:https://contratero.es/contracts/SER/2025/0000169316
STATUS:CONFIRMED
BEGIN:VALARM
TRIGGER:-P1D
ACTION:DISPLAY
DESCRIPTION:Recordatorio: el objeto de la presente contr
END:VALARM
END:VEVENT
END:VCALENDAR