BEGIN:VCALENDAR
VERSION:2.0
PRODID:-//Contratero//ES
CALSCALE:GREGORIAN
METHOD:PUBLISH
BEGIN:VEVENT
UID:SER/2026/0000000076@contratero.es
DTSTAMP:20260420T165200Z
DTSTART:20260326T235959
DTEND:20260327T005959
SUMMARY:Cierre: El objeto del contrato es la definición\, configura
DESCRIPTION:El objeto del contrato es la definición\, configuración\, instalación y puesta en marcha de un sistema de gestión\, distribución ydifusión de contenidos digitales (en adelante el SDCD) en las pantallas i...\\n\\nOrganismo: Viceconsejería de Derechos Sociales\\n\\nVer en Contratero: https://contratero.es/contracts/SER/2026/0000000076
URL:https://contratero.es/contracts/SER/2026/0000000076
STATUS:CONFIRMED
BEGIN:VALARM
TRIGGER:-P1D
ACTION:DISPLAY
DESCRIPTION:Recordatorio: El objeto del contrato es la d
END:VALARM
END:VEVENT
END:VCALENDAR