BEGIN:VCALENDAR
VERSION:2.0
PRODID:-//Contratero//ES
CALSCALE:GREGORIAN
METHOD:PUBLISH
BEGIN:VEVENT
UID:SER/2026/0000004135@contratero.es
DTSTAMP:20260419T220638Z
DTSTART:20260406T235959
DTEND:20260407T005959
SUMMARY:Cierre: El objeto del contrato es la realización del servi
DESCRIPTION:El objeto del contrato es la realización del servicio de mantenimiento adaptativo\, correctivo y soporte técnico de la plataformade sistema de informático SINERGIA de la Consejería de Economía\, Industr...\\n\\nOrganismo: Secretaría General Técnica de la Consejería de Economía\, Industria\, Comercio y Autónomos\\n\\nVer en Contratero: https://contratero.es/contracts/SER/2026/0000004135
URL:https://contratero.es/contracts/SER/2026/0000004135
STATUS:CONFIRMED
BEGIN:VALARM
TRIGGER:-P1D
ACTION:DISPLAY
DESCRIPTION:Recordatorio: El objeto del contrato es la r
END:VALARM
END:VEVENT
END:VCALENDAR