BEGIN:VCALENDAR
VERSION:2.0
PRODID:-//Contratero//ES
CALSCALE:GREGORIAN
METHOD:PUBLISH
BEGIN:VEVENT
UID:SER/22/0059@contratero.es
DTSTAMP:20260425T020100Z
DTSTART:20221128T235959
DTEND:20221129T005959
SUMMARY:Cierre: Servicio de consultoría y programación para el Ser
DESCRIPTION:Servicio de consultoría y programación para el Servicio de Información Empresarial ARDÁN.\\n\\nOrganismo: Consorcio de la Zona Franca de Vigo\\n\\nVer en Contratero: https://contratero.es/contracts/SER/22/0059
URL:https://contratero.es/contracts/SER/22/0059
STATUS:CONFIRMED
BEGIN:VALARM
TRIGGER:-P1D
ACTION:DISPLAY
DESCRIPTION:Recordatorio: Servicio de consultoría y prog
END:VALARM
END:VEVENT
END:VCALENDAR