BEGIN:VCALENDAR
VERSION:2.0
PRODID:-//Contratero//ES
CALSCALE:GREGORIAN
METHOD:PUBLISH
BEGIN:VEVENT
UID:SER/24/0010.00@contratero.es
DTSTAMP:20260424T154831Z
DTSTART:20240905T235959
DTEND:20240906T005959
SUMMARY:Cierre: Contrato mixto para el suministro y servicios de i
DESCRIPTION:Contrato mixto para el suministro y servicios de implantación y mantenimiento de un Sistema ERP para la gestión de los procesos Financiero-Administrativo y de Gestión de Bienes Inmuebles del Consorcio...\\n\\nOrganismo: Consorcio de la Zona Franca de Vigo\\n\\nVer en Contratero: https://contratero.es/contracts/SER/24/0010.00
URL:https://contratero.es/contracts/SER/24/0010.00
STATUS:CONFIRMED
BEGIN:VALARM
TRIGGER:-P1D
ACTION:DISPLAY
DESCRIPTION:Recordatorio: Contrato mixto para el suminis
END:VALARM
END:VEVENT
END:VCALENDAR