BEGIN:VCALENDAR
VERSION:2.0
PRODID:-//Contratero//ES
CALSCALE:GREGORIAN
METHOD:PUBLISH
BEGIN:VEVENT
UID:SER021/2025@contratero.es
DTSTAMP:20260419T163807Z
DTSTART:20250911T235959
DTEND:20250912T005959
SUMMARY:Cierre: Mantenimiento del software de gestión de control h
DESCRIPTION:Mantenimiento del software de gestión de control horario y presencia de la Universidad de León\, Evalos 8.\\n\\nOrganismo: Rector de la Universidad de León\\n\\nVer en Contratero: https://contratero.es/contracts/SER021/2025
URL:https://contratero.es/contracts/SER021/2025
STATUS:CONFIRMED
BEGIN:VALARM
TRIGGER:-P1D
ACTION:DISPLAY
DESCRIPTION:Recordatorio: Mantenimiento del software de 
END:VALARM
END:VEVENT
END:VCALENDAR