BEGIN:VCALENDAR
VERSION:2.0
PRODID:-//Contratero//ES
CALSCALE:GREGORIAN
METHOD:PUBLISH
BEGIN:VEVENT
UID:SERV-2025000068@contratero.es
DTSTAMP:20260423T024115Z
DTSTART:20260218T235959
DTEND:20260219T005959
SUMMARY:Cierre: Contrato servicios de software para la implantació
DESCRIPTION:Contrato servicios de software para la implantación de estaciones virtuales de información turística 24/7\, en el marco del plan de recuperación\, transformación y resiliencia. Next Generation EU\\n\\nOrganismo: Junta de Gobierno del Ayuntamiento de Granada\\n\\nVer en Contratero: https://contratero.es/contracts/SERV-2025000068
URL:https://contratero.es/contracts/SERV-2025000068
STATUS:CONFIRMED
BEGIN:VALARM
TRIGGER:-P1D
ACTION:DISPLAY
DESCRIPTION:Recordatorio: Contrato servicios de software
END:VALARM
END:VEVENT
END:VCALENDAR