BEGIN:VCALENDAR
VERSION:2.0
PRODID:-//Contratero//ES
CALSCALE:GREGORIAN
METHOD:PUBLISH
BEGIN:VEVENT
UID:SERV-2025000073@contratero.es
DTSTAMP:20260425T213447Z
DTSTART:20251211T235959
DTEND:20251212T005959
SUMMARY:Cierre: Contrato de servicios de ciberseguridad consistent
DESCRIPTION:Contrato de servicios de ciberseguridad consistentes en la provisión de un servicio de Centro de Operaciones de Ciberseguridad (SOC) para la monitorización\, análisis y gestión de incidentes de segurid...\\n\\nOrganismo: Junta de Gobierno del Ayuntamiento de Granada\\n\\nVer en Contratero: https://contratero.es/contracts/SERV-2025000073
URL:https://contratero.es/contracts/SERV-2025000073
STATUS:CONFIRMED
BEGIN:VALARM
TRIGGER:-P1D
ACTION:DISPLAY
DESCRIPTION:Recordatorio: Contrato de servicios de ciber
END:VALARM
END:VEVENT
END:VCALENDAR