BEGIN:VCALENDAR
VERSION:2.0
PRODID:-//Contratero//ES
CALSCALE:GREGORIAN
METHOD:PUBLISH
BEGIN:VEVENT
UID:SERV-NEG_SINP/2021000001@contratero.es
DTSTAMP:20260424T204024Z
DTSTART:20210224T235959
DTEND:20210225T005959
SUMMARY:Cierre: Servicio web de intercambio de asientos electrónic
DESCRIPTION:Servicio web de intercambio de asientos electrónicos de registro a través del Sistema de Interconexión de Registros (SIR)\, con la aplicación informática “Registra” utilizada en el Ayuntamiento de Moli...\\n\\nOrganismo: Junta de Gobierno del Ayuntamiento de Molina de Segura\\n\\nVer en Contratero: https://contratero.es/contracts/SERV-NEG_SINP/2021000001
URL:https://contratero.es/contracts/SERV-NEG_SINP/2021000001
STATUS:CONFIRMED
BEGIN:VALARM
TRIGGER:-P1D
ACTION:DISPLAY
DESCRIPTION:Recordatorio: Servicio web de intercambio de
END:VALARM
END:VEVENT
END:VCALENDAR