BEGIN:VCALENDAR
VERSION:2.0
PRODID:-//Contratero//ES
CALSCALE:GREGORIAN
METHOD:PUBLISH
BEGIN:VEVENT
UID:SERV-NEG_SINP/2021000011@contratero.es
DTSTAMP:20260425T031252Z
DTSTART:20210309T235959
DTEND:20210310T005959
SUMMARY:Cierre: Servicio de mantenimiento del geoportal que public
DESCRIPTION:Servicio de mantenimiento del geoportal que publica los datos de IDEMo (Infraestructura de Datos Espaciales de Molina de Segura)\, incorporando condiciones especiales de ejecución\\n\\nOrganismo: Junta de Gobierno del Ayuntamiento de Molina de Segura\\n\\nVer en Contratero: https://contratero.es/contracts/SERV-NEG_SINP/2021000011
URL:https://contratero.es/contracts/SERV-NEG_SINP/2021000011
STATUS:CONFIRMED
BEGIN:VALARM
TRIGGER:-P1D
ACTION:DISPLAY
DESCRIPTION:Recordatorio: Servicio de mantenimiento del 
END:VALARM
END:VEVENT
END:VCALENDAR