BEGIN:VCALENDAR
VERSION:2.0
PRODID:-//Contratero//ES
CALSCALE:GREGORIAN
METHOD:PUBLISH
BEGIN:VEVENT
UID:SERV-NEG_SINP/2021000057@contratero.es
DTSTAMP:20260424T074626Z
DTSTART:20210520T235959
DTEND:20210521T005959
SUMMARY:Cierre: Servicio de mantenimiento anual del software para 
DESCRIPTION:Servicio de mantenimiento anual del software para la centralización de los servicios electrónicos comunes ofrecidos por diferentes administraciones públicas (Agente SC)\, incluyendo condiciones especia...\\n\\nOrganismo: Junta de Gobierno del Ayuntamiento de Molina de Segura\\n\\nVer en Contratero: https://contratero.es/contracts/SERV-NEG_SINP/2021000057
URL:https://contratero.es/contracts/SERV-NEG_SINP/2021000057
STATUS:CONFIRMED
BEGIN:VALARM
TRIGGER:-P1D
ACTION:DISPLAY
DESCRIPTION:Recordatorio: Servicio de mantenimiento anua
END:VALARM
END:VEVENT
END:VCALENDAR