BEGIN:VCALENDAR
VERSION:2.0
PRODID:-//Contratero//ES
CALSCALE:GREGORIAN
METHOD:PUBLISH
BEGIN:VEVENT
UID:SERV-NEG_SINP/2023000281@contratero.es
DTSTAMP:20260422T113714Z
DTSTART:20231109T235959
DTEND:20231110T005959
SUMMARY:Cierre: Servicio de software de gestión deportiva para el 
DESCRIPTION:Servicio de software de gestión deportiva para el Ayuntamiento de Molina de Segura años 2024-25\, incorporando condiciones especiales de ejecución de carácter social.\\n\\nOrganismo: Junta de Gobierno del Ayuntamiento de Molina de Segura\\n\\nVer en Contratero: https://contratero.es/contracts/SERV-NEG_SINP/2023000281
URL:https://contratero.es/contracts/SERV-NEG_SINP/2023000281
STATUS:CONFIRMED
BEGIN:VALARM
TRIGGER:-P1D
ACTION:DISPLAY
DESCRIPTION:Recordatorio: Servicio de software de gestió
END:VALARM
END:VEVENT
END:VCALENDAR