BEGIN:VCALENDAR
VERSION:2.0
PRODID:-//Contratero//ES
CALSCALE:GREGORIAN
METHOD:PUBLISH
BEGIN:VEVENT
UID:SERV/ABR/2023000041@contratero.es
DTSTAMP:20260420T103419Z
DTSTART:20230612T235959
DTEND:20230613T005959
SUMMARY:Cierre: Servicio de diseño y mantenimiento del portal web 
DESCRIPTION:Servicio de diseño y mantenimiento del portal web www.pazopacopaz.es y dinamización y mantenimiento de las redes sociales del pazo de los deportes “Paco Paz”\\n\\nOrganismo: Presidencia de la Diputación Provincial de Ourense\\n\\nVer en Contratero: https://contratero.es/contracts/SERV/ABR/2023000041
URL:https://contratero.es/contracts/SERV/ABR/2023000041
STATUS:CONFIRMED
BEGIN:VALARM
TRIGGER:-P1D
ACTION:DISPLAY
DESCRIPTION:Recordatorio: Servicio de diseño y mantenimi
END:VALARM
END:VEVENT
END:VCALENDAR