BEGIN:VCALENDAR
VERSION:2.0
PRODID:-//Contratero//ES
CALSCALE:GREGORIAN
METHOD:PUBLISH
BEGIN:VEVENT
UID:SERV/ABR/2024000065@contratero.es
DTSTAMP:20260420T182316Z
DTSTART:20240718T235959
DTEND:20240719T005959
SUMMARY:Cierre: Servicio de gestión de videoactas y emisión en str
DESCRIPTION:Servicio de gestión de videoactas y emisión en streaming de sesiones plenarias\, comisiones y actos institucionales\\n\\nOrganismo: Presidencia de la Diputación Provincial de Ourense\\n\\nVer en Contratero: https://contratero.es/contracts/SERV/ABR/2024000065
URL:https://contratero.es/contracts/SERV/ABR/2024000065
STATUS:CONFIRMED
BEGIN:VALARM
TRIGGER:-P1D
ACTION:DISPLAY
DESCRIPTION:Recordatorio: Servicio de gestión de videoac
END:VALARM
END:VEVENT
END:VCALENDAR