BEGIN:VCALENDAR
VERSION:2.0
PRODID:-//Contratero//ES
CALSCALE:GREGORIAN
METHOD:PUBLISH
BEGIN:VEVENT
UID:SERV/ABR/CONTRATACION2021000010@contratero.es
DTSTAMP:20260424T222537Z
DTSTART:20210825T235959
DTEND:20210826T005959
SUMMARY:Cierre: Servicios de contratación\, renovación y mantenimie
DESCRIPTION:Servicios de contratación\, renovación y mantenimiento de la cartera de dominios y alojamiento de contenidos del Ayuntamiento de Motril y renovación de certificados de sede y sello\,\\n\\nOrganismo: Alcaldia del Ayuntamiento de Motril\\n\\nVer en Contratero: https://contratero.es/contracts/SERV/ABR/CONTRATACION2021000010
URL:https://contratero.es/contracts/SERV/ABR/CONTRATACION2021000010
STATUS:CONFIRMED
BEGIN:VALARM
TRIGGER:-P1D
ACTION:DISPLAY
DESCRIPTION:Recordatorio: Servicios de contratación\, ren
END:VALARM
END:VEVENT
END:VCALENDAR