BEGIN:VCALENDAR
VERSION:2.0
PRODID:-//Contratero//ES
CALSCALE:GREGORIAN
METHOD:PUBLISH
BEGIN:VEVENT
UID:SERV/ABR_SP_SMPL/2024000123@contratero.es
DTSTAMP:20260421T090751Z
DTSTART:20241003T235959
DTEND:20241004T005959
SUMMARY:Cierre: Servicios de gestión integral de plataforma digita
DESCRIPTION:Servicios de gestión integral de plataforma digital de bonos al consumo para el comercio de Elche y la gestión de los fondos mediante selección de entidad colaboradora.\\n\\nOrganismo: Teniente de Alcalde de Contratación Pública del Ayuntamiento de Elche\\n\\nVer en Contratero: https://contratero.es/contracts/SERV/ABR_SP_SMPL/2024000123
URL:https://contratero.es/contracts/SERV/ABR_SP_SMPL/2024000123
STATUS:CONFIRMED
BEGIN:VALARM
TRIGGER:-P1D
ACTION:DISPLAY
DESCRIPTION:Recordatorio: Servicios de gestión integral 
END:VALARM
END:VEVENT
END:VCALENDAR