BEGIN:VCALENDAR
VERSION:2.0
PRODID:-//Contratero//ES
CALSCALE:GREGORIAN
METHOD:PUBLISH
BEGIN:VEVENT
UID:SERV/CNT/2025000045@contratero.es
DTSTAMP:20260421T234546Z
DTSTART:20250826T235959
DTEND:20250827T005959
SUMMARY:Cierre: Servicio de transformación digital y modernización
DESCRIPTION:Servicio de transformación digital y modernización de los sistemas de gestión del padrón municipal de las entidades locales de la isla de La Palma\\n\\nOrganismo: Miembros Corporativos titulares de Áreas del Cabildo Insular de la Palma\\n\\nVer en Contratero: https://contratero.es/contracts/SERV/CNT/2025000045
URL:https://contratero.es/contracts/SERV/CNT/2025000045
STATUS:CONFIRMED
BEGIN:VALARM
TRIGGER:-P1D
ACTION:DISPLAY
DESCRIPTION:Recordatorio: Servicio de transformación dig
END:VALARM
END:VEVENT
END:VCALENDAR