BEGIN:VCALENDAR
VERSION:2.0
PRODID:-//Contratero//ES
CALSCALE:GREGORIAN
METHOD:PUBLISH
BEGIN:VEVENT
UID:SERV/NEG_SINP-2023000020@contratero.es
DTSTAMP:20260422T020945Z
DTSTART:20231020T235959
DTEND:20231021T005959
SUMMARY:Cierre: Servicio INSUIT para accesibilidad usabilidad web
DESCRIPTION:Servicio INSUIT para accesibilidad usabilidad web\\n\\nOrganismo: Junta de Gobierno del Ayuntamiento de Mazarrón\\n\\nVer en Contratero: https://contratero.es/contracts/SERV/NEG_SINP-2023000020
URL:https://contratero.es/contracts/SERV/NEG_SINP-2023000020
STATUS:CONFIRMED
BEGIN:VALARM
TRIGGER:-P1D
ACTION:DISPLAY
DESCRIPTION:Recordatorio: Servicio INSUIT para accesibil
END:VALARM
END:VEVENT
END:VCALENDAR