BEGIN:VCALENDAR
VERSION:2.0
PRODID:-//Contratero//ES
CALSCALE:GREGORIAN
METHOD:PUBLISH
BEGIN:VEVENT
UID:SERV/NEG_SINP-2024000059@contratero.es
DTSTAMP:20260424T114729Z
DTSTART:20250117T235959
DTEND:20250118T005959
SUMMARY:Cierre: Mantenimiento de Aplicaciones TAO 2.0 y TAO 1.0
DESCRIPTION:Mantenimiento de Aplicaciones TAO 2.0 y TAO 1.0\\n\\nOrganismo: Junta de Gobierno del Ayuntamiento de Mazarrón\\n\\nVer en Contratero: https://contratero.es/contracts/SERV/NEG_SINP-2024000059
URL:https://contratero.es/contracts/SERV/NEG_SINP-2024000059
STATUS:CONFIRMED
BEGIN:VALARM
TRIGGER:-P1D
ACTION:DISPLAY
DESCRIPTION:Recordatorio: Mantenimiento de Aplicaciones 
END:VALARM
END:VEVENT
END:VCALENDAR