BEGIN:VCALENDAR
VERSION:2.0
PRODID:-//Contratero//ES
CALSCALE:GREGORIAN
METHOD:PUBLISH
BEGIN:VEVENT
UID:SERV/NEG_SINP/AY/2021000038@contratero.es
DTSTAMP:20260423T020022Z
DTSTART:20210914T235959
DTEND:20210915T005959
SUMMARY:Cierre: Contrato de servicios de mantenimiento de la aplic
DESCRIPTION:Contrato de servicios de mantenimiento de la aplicación de gestión fotográfica de archivo  GAdE digital\, suministrada por CONSILIARIA CONSULTING SL\, (Expte. 38/2021 E2)\\n\\nOrganismo: Junta de Gobierno Local del Ayuntamiento de Calahorra\\n\\nVer en Contratero: https://contratero.es/contracts/SERV/NEG_SINP/AY/2021000038
URL:https://contratero.es/contracts/SERV/NEG_SINP/AY/2021000038
STATUS:CONFIRMED
BEGIN:VALARM
TRIGGER:-P1D
ACTION:DISPLAY
DESCRIPTION:Recordatorio: Contrato de servicios de mante
END:VALARM
END:VEVENT
END:VCALENDAR