BEGIN:VCALENDAR
VERSION:2.0
PRODID:-//Contratero//ES
CALSCALE:GREGORIAN
METHOD:PUBLISH
BEGIN:VEVENT
UID:SERV/NEG_SINP/AY/2025000081@contratero.es
DTSTAMP:20260420T155640Z
DTSTART:20251204T235959
DTEND:20251205T005959
SUMMARY:Cierre: Contrato de servicios de mantenimiento del softwar
DESCRIPTION:Contrato de servicios de mantenimiento del software y hardware para sistema de gestión de turnos con que cuenta la OAC\, suministrados por Q-MATIC AB\, (Expte. 81/2025 E2)\\n\\nOrganismo: Junta de Gobierno Local del Ayuntamiento de Calahorra\\n\\nVer en Contratero: https://contratero.es/contracts/SERV/NEG_SINP/AY/2025000081
URL:https://contratero.es/contracts/SERV/NEG_SINP/AY/2025000081
STATUS:CONFIRMED
BEGIN:VALARM
TRIGGER:-P1D
ACTION:DISPLAY
DESCRIPTION:Recordatorio: Contrato de servicios de mante
END:VALARM
END:VEVENT
END:VCALENDAR