BEGIN:VCALENDAR
VERSION:2.0
PRODID:-//Contratero//ES
CALSCALE:GREGORIAN
METHOD:PUBLISH
BEGIN:VEVENT
UID:SERV/SGT/04-2023@contratero.es
DTSTAMP:20260422T004655Z
DTSTART:20230329T235959
DTEND:20230330T005959
SUMMARY:Cierre: Servicio para la ejecución de los trabajos de reco
DESCRIPTION:Servicio para la ejecución de los trabajos de recogida de los precios agrícolas\, ganaderos y pesqueros en destino y del consumidor\\n\\nOrganismo: Secretaría General Técnica de la Consejería de Agricultura\, Ganaderia\, Pesca y Aguas\\n\\nVer en Contratero: https://contratero.es/contracts/SERV/SGT/04-2023
URL:https://contratero.es/contracts/SERV/SGT/04-2023
STATUS:CONFIRMED
BEGIN:VALARM
TRIGGER:-P1D
ACTION:DISPLAY
DESCRIPTION:Recordatorio: Servicio para la ejecución de 
END:VALARM
END:VEVENT
END:VCALENDAR