BEGIN:VCALENDAR
VERSION:2.0
PRODID:-//Contratero//ES
CALSCALE:GREGORIAN
METHOD:PUBLISH
BEGIN:VEVENT
UID:SERV/SGT/04-2025@contratero.es
DTSTAMP:20260422T054410Z
DTSTART:20251002T235959
DTEND:20251003T005959
SUMMARY:Cierre: El objeto del contrato será la prestación de servi
DESCRIPTION:El objeto del contrato será la prestación de servicios de desarrollo y mantenimiento que permitan la creación de una aplicación informática para la gestión de expedientes administrativos que permita a...\\n\\nOrganismo: Secretaría General Técnica de la Consejería de Agricultura\, Ganadería\, Pesca y Soberanía Alimentaria del Gobierno de Canarias\\n\\nVer en Contratero: https://contratero.es/contracts/SERV/SGT/04-2025
URL:https://contratero.es/contracts/SERV/SGT/04-2025
STATUS:CONFIRMED
BEGIN:VALARM
TRIGGER:-P1D
ACTION:DISPLAY
DESCRIPTION:Recordatorio: El objeto del contrato será la
END:VALARM
END:VEVENT
END:VCALENDAR