BEGIN:VCALENDAR
VERSION:2.0
PRODID:-//Contratero//ES
CALSCALE:GREGORIAN
METHOD:PUBLISH
BEGIN:VEVENT
UID:SERVICIOS-2019/38@contratero.es
DTSTAMP:20260425T191647Z
DTSTART:20200227T235959
DTEND:20200228T005959
SUMMARY:Cierre: El servicio de correo electrónico y herramientas o
DESCRIPTION:El servicio de correo electrónico y herramientas ofimáticas en la nube para la Diputación Provincial de Soria.\\n\\nOrganismo: Presidencia de la Diputación Provincial de Soria\\n\\nVer en Contratero: https://contratero.es/contracts/SERVICIOS-2019/38
URL:https://contratero.es/contracts/SERVICIOS-2019/38
STATUS:CONFIRMED
BEGIN:VALARM
TRIGGER:-P1D
ACTION:DISPLAY
DESCRIPTION:Recordatorio: El servicio de correo electrón
END:VALARM
END:VEVENT
END:VCALENDAR