BEGIN:VCALENDAR
VERSION:2.0
PRODID:-//Contratero//ES
CALSCALE:GREGORIAN
METHOD:PUBLISH
BEGIN:VEVENT
UID:SFC/2020/00033@contratero.es
DTSTAMP:20260426T020603Z
DTSTART:20201030T235959
DTEND:20201031T005959
SUMMARY:Cierre: Contratación del servicio de una plataforma de ges
DESCRIPTION:Contratación del servicio de una plataforma de gestión documental para la Coordinación de Actividades Empresariales obligada por el RD 171/2004.\\n\\nOrganismo: Empresa Municipal de Servicios Funerarios y Cementerios de Madrid\, S.A.\\n\\nVer en Contratero: https://contratero.es/contracts/SFC/2020/00033
URL:https://contratero.es/contracts/SFC/2020/00033
STATUS:CONFIRMED
BEGIN:VALARM
TRIGGER:-P1D
ACTION:DISPLAY
DESCRIPTION:Recordatorio: Contratación del servicio de u
END:VALARM
END:VEVENT
END:VCALENDAR