BEGIN:VCALENDAR
VERSION:2.0
PRODID:-//Contratero//ES
CALSCALE:GREGORIAN
METHOD:PUBLISH
BEGIN:VEVENT
UID:SG/CON/SUM/4/2022@contratero.es
DTSTAMP:20260422T120909Z
DTSTART:20220610T235959
DTEND:20220611T005959
SUMMARY:Cierre: Contrato de suministro de aplicación informática i
DESCRIPTION:Contrato de suministro de aplicación informática incluido su mantenimiento y cesión del derecho de uso de la correspondiente licencia de un sistema para gestionar el mantenimiento de los espacios públ...\\n\\nOrganismo: Alcaldía del Ayuntamiento de Baeza\\n\\nVer en Contratero: https://contratero.es/contracts/SG/CON/SUM/4/2022
URL:https://contratero.es/contracts/SG/CON/SUM/4/2022
STATUS:CONFIRMED
BEGIN:VALARM
TRIGGER:-P1D
ACTION:DISPLAY
DESCRIPTION:Recordatorio: Contrato de suministro de apli
END:VALARM
END:VEVENT
END:VCALENDAR