BEGIN:VCALENDAR
VERSION:2.0
PRODID:-//Contratero//ES
CALSCALE:GREGORIAN
METHOD:PUBLISH
BEGIN:VEVENT
UID:SJ-ASE-CTR-MAY-2025-0068@contratero.es
DTSTAMP:20260419T180134Z
DTSTART:20260330T235959
DTEND:20260331T005959
SUMMARY:Cierre: Evolución\, soporte y actualización de Business Cen
DESCRIPTION:Evolución\, soporte y actualización de Business Central\\n\\nOrganismo: Presidencia de la Autoridad Portuaria de Gijón\\n\\nVer en Contratero: https://contratero.es/contracts/SJ-ASE-CTR-MAY-2025-0068
URL:https://contratero.es/contracts/SJ-ASE-CTR-MAY-2025-0068
STATUS:CONFIRMED
BEGIN:VALARM
TRIGGER:-P1D
ACTION:DISPLAY
DESCRIPTION:Recordatorio: Evolución\, soporte y actualiza
END:VALARM
END:VEVENT
END:VCALENDAR