BEGIN:VCALENDAR
VERSION:2.0
PRODID:-//Contratero//ES
CALSCALE:GREGORIAN
METHOD:PUBLISH
BEGIN:VEVENT
UID:SJ-ASE-CTR-MAY-2025-0100@contratero.es
DTSTAMP:20260422T130658Z
DTSTART:20251210T235959
DTEND:20251211T005959
SUMMARY:Cierre: Contratación de la Renovación de la herramienta de
DESCRIPTION:Contratación de la Renovación de la herramienta de nómina\, portal del empleado y gestión de rrhh (modo SaaS)\\n\\nOrganismo: Presidencia de la Autoridad Portuaria de Gijón\\n\\nVer en Contratero: https://contratero.es/contracts/SJ-ASE-CTR-MAY-2025-0100
URL:https://contratero.es/contracts/SJ-ASE-CTR-MAY-2025-0100
STATUS:CONFIRMED
BEGIN:VALARM
TRIGGER:-P1D
ACTION:DISPLAY
DESCRIPTION:Recordatorio: Contratación de la Renovación 
END:VALARM
END:VEVENT
END:VCALENDAR