BEGIN:VCALENDAR
VERSION:2.0
PRODID:-//Contratero//ES
CALSCALE:GREGORIAN
METHOD:PUBLISH
BEGIN:VEVENT
UID:SLU-2018-PAO-DMU-0001@contratero.es
DTSTAMP:20260426T022721Z
DTSTART:20180730T235959
DTEND:20180731T005959
SUMMARY:Cierre: Contrato de prestación de servicios de herramienta
DESCRIPTION:Contrato de prestación de servicios de herramienta global de tecnología Big Data adaptada a destinos para Turismo y Planificación Costa del Sol\, S.L.U.\\n\\nOrganismo: Gerencia de Turismo y Planificación Costa del Sol S.L.U.\\n\\nVer en Contratero: https://contratero.es/contracts/SLU-2018-PAO-DMU-0001
URL:https://contratero.es/contracts/SLU-2018-PAO-DMU-0001
STATUS:CONFIRMED
BEGIN:VALARM
TRIGGER:-P1D
ACTION:DISPLAY
DESCRIPTION:Recordatorio: Contrato de prestación de serv
END:VALARM
END:VEVENT
END:VCALENDAR