BEGIN:VCALENDAR
VERSION:2.0
PRODID:-//Contratero//ES
CALSCALE:GREGORIAN
METHOD:PUBLISH
BEGIN:VEVENT
UID:SLU-2018-PAS-DMU-0001@contratero.es
DTSTAMP:20260426T035303Z
DTSTART:20180821T235959
DTEND:20180822T005959
SUMMARY:Cierre: Contrato de prestación de servicios de Adara Analy
DESCRIPTION:Contrato de prestación de servicios de Adara Analytics para Turismo y Planificación Costa del Sol\, S.L.U.\\n\\nOrganismo: Gerencia de Turismo y Planificación Costa del Sol S.L.U.\\n\\nVer en Contratero: https://contratero.es/contracts/SLU-2018-PAS-DMU-0001
URL:https://contratero.es/contracts/SLU-2018-PAS-DMU-0001
STATUS:CONFIRMED
BEGIN:VALARM
TRIGGER:-P1D
ACTION:DISPLAY
DESCRIPTION:Recordatorio: Contrato de prestación de serv
END:VALARM
END:VEVENT
END:VCALENDAR