BEGIN:VCALENDAR
VERSION:2.0
PRODID:-//Contratero//ES
CALSCALE:GREGORIAN
METHOD:PUBLISH
BEGIN:VEVENT
UID:SLU-2023-PAO-DES-0002@contratero.es
DTSTAMP:20260421T204827Z
DTSTART:20231106T235959
DTEND:20231107T005959
SUMMARY:Cierre: Desarrollo de aplicación para el cálculo de huella
DESCRIPTION:Desarrollo de aplicación para el cálculo de huella de carbono y huella hídrica en establecimientos hoteleros de la Costa del Sol.\\n\\nOrganismo: Gerencia de Turismo y Planificación Costa del Sol S.L.U.\\n\\nVer en Contratero: https://contratero.es/contracts/SLU-2023-PAO-DES-0002
URL:https://contratero.es/contracts/SLU-2023-PAO-DES-0002
STATUS:CONFIRMED
BEGIN:VALARM
TRIGGER:-P1D
ACTION:DISPLAY
DESCRIPTION:Recordatorio: Desarrollo de aplicación para 
END:VALARM
END:VEVENT
END:VCALENDAR