BEGIN:VCALENDAR
VERSION:2.0
PRODID:-//Contratero//ES
CALSCALE:GREGORIAN
METHOD:PUBLISH
BEGIN:VEVENT
UID:SLU-2025-PAS-DMU-0001@contratero.es
DTSTAMP:20260424T162410Z
DTSTART:20251105T235959
DTEND:20251106T005959
SUMMARY:Cierre: Contratación de la ejecución de una estrategia de 
DESCRIPTION:Contratación de la ejecución de una estrategia de Inbound Marketing para la empresa pública Turismo y Planificación Costa del Sol\, S.L.U.\\n\\nOrganismo: Gerencia de Turismo y Planificación Costa del Sol S.L.U.\\n\\nVer en Contratero: https://contratero.es/contracts/SLU-2025-PAS-DMU-0001
URL:https://contratero.es/contracts/SLU-2025-PAS-DMU-0001
STATUS:CONFIRMED
BEGIN:VALARM
TRIGGER:-P1D
ACTION:DISPLAY
DESCRIPTION:Recordatorio: Contratación de la ejecución d
END:VALARM
END:VEVENT
END:VCALENDAR