BEGIN:VCALENDAR
VERSION:2.0
PRODID:-//Contratero//ES
CALSCALE:GREGORIAN
METHOD:PUBLISH
BEGIN:VEVENT
UID:SLU-2025-PASS-INT-0001@contratero.es
DTSTAMP:20260419T184652Z
DTSTART:20250528T235959
DTEND:20250529T005959
SUMMARY:Cierre: Contratación de licencias para la visualización y 
DESCRIPTION:Contratación de licencias para la visualización y análisis de datos del big data Tourist Costa del Sol\\n\\nOrganismo: Gerencia de Turismo y Planificación Costa del Sol S.L.U.\\n\\nVer en Contratero: https://contratero.es/contracts/SLU-2025-PASS-INT-0001
URL:https://contratero.es/contracts/SLU-2025-PASS-INT-0001
STATUS:CONFIRMED
BEGIN:VALARM
TRIGGER:-P1D
ACTION:DISPLAY
DESCRIPTION:Recordatorio: Contratación de licencias para
END:VALARM
END:VEVENT
END:VCALENDAR