BEGIN:VCALENDAR
VERSION:2.0
PRODID:-//Contratero//ES
CALSCALE:GREGORIAN
METHOD:PUBLISH
BEGIN:VEVENT
UID:SLU‐2025‐PAS‐TIM‐0001@contratero.es
DTSTAMP:20260423T152429Z
DTSTART:20250530T235959
DTEND:20250531T005959
SUMMARY:Cierre: Plataforma de computación\, almacenamiento y servic
DESCRIPTION:Plataforma de computación\, almacenamiento y servicios en la nube para Turismo y Planificación Costa del Sol\, S.L.U.\\n\\nOrganismo: Gerencia de Turismo y Planificación Costa del Sol S.L.U.\\n\\nVer en Contratero: https://contratero.es/contracts/SLU‐2025‐PAS‐TIM‐0001
URL:https://contratero.es/contracts/SLU‐2025‐PAS‐TIM‐0001
STATUS:CONFIRMED
BEGIN:VALARM
TRIGGER:-P1D
ACTION:DISPLAY
DESCRIPTION:Recordatorio: Plataforma de computación\, alm
END:VALARM
END:VEVENT
END:VCALENDAR