BEGIN:VCALENDAR
VERSION:2.0
PRODID:-//Contratero//ES
CALSCALE:GREGORIAN
METHOD:PUBLISH
BEGIN:VEVENT
UID:SMTR.20/25@contratero.es
DTSTAMP:20260421T220516Z
DTSTART:20251117T235959
DTEND:20251118T005959
SUMMARY:Cierre: Renovación de la infraestructura del Centro de Pro
DESCRIPTION:Renovación de la infraestructura del Centro de Proceso de Datos de la Diputación Provincial de Guadalajara\\n\\nOrganismo: Presidencia de la Diputación Provincial de Guadalajara\\n\\nVer en Contratero: https://contratero.es/contracts/SMTR.20/25
URL:https://contratero.es/contracts/SMTR.20/25
STATUS:CONFIRMED
BEGIN:VALARM
TRIGGER:-P1D
ACTION:DISPLAY
DESCRIPTION:Recordatorio: Renovación de la infraestructu
END:VALARM
END:VEVENT
END:VCALENDAR