BEGIN:VCALENDAR
VERSION:2.0
PRODID:-//Contratero//ES
CALSCALE:GREGORIAN
METHOD:PUBLISH
BEGIN:VEVENT
UID:SMTR.3/25@contratero.es
DTSTAMP:20260422T233328Z
DTSTART:20241125T235959
DTEND:20241126T005959
SUMMARY:Cierre: Suministro de una licencia de la aplicación inform
DESCRIPTION:Suministro de una licencia de la aplicación informática para el diseño y proyectado de nuevos trazados\,\nampliaciones de calzada y remodelación de enlaces de las carreteras provinciales\\n\\nOrganismo: Presidencia de la Diputación Provincial de Guadalajara\\n\\nVer en Contratero: https://contratero.es/contracts/SMTR.3/25
URL:https://contratero.es/contracts/SMTR.3/25
STATUS:CONFIRMED
BEGIN:VALARM
TRIGGER:-P1D
ACTION:DISPLAY
DESCRIPTION:Recordatorio: Suministro de una licencia de 
END:VALARM
END:VEVENT
END:VCALENDAR