BEGIN:VCALENDAR
VERSION:2.0
PRODID:-//Contratero//ES
CALSCALE:GREGORIAN
METHOD:PUBLISH
BEGIN:VEVENT
UID:SO20260001@contratero.es
DTSTAMP:20260420T123359Z
DTSTART:20260220T235959
DTEND:20260221T005959
SUMMARY:Cierre: Contratación del suministro de licenciamiento del 
DESCRIPTION:Contratación del suministro de licenciamiento del software Sistema Operativo Red Hat\\n\\nOrganismo: Consejo de Administración de Correos Express Paquetería Urgente\, S.A. - S.M.E.\\n\\nVer en Contratero: https://contratero.es/contracts/SO20260001
URL:https://contratero.es/contracts/SO20260001
STATUS:CONFIRMED
BEGIN:VALARM
TRIGGER:-P1D
ACTION:DISPLAY
DESCRIPTION:Recordatorio: Contratación del suministro de
END:VALARM
END:VEVENT
END:VCALENDAR