BEGIN:VCALENDAR
VERSION:2.0
PRODID:-//Contratero//ES
CALSCALE:GREGORIAN
METHOD:PUBLISH
BEGIN:VEVENT
UID:SOLPED10911@contratero.es
DTSTAMP:20260422T130413Z
DTSTART:20240429T235959
DTEND:20240430T005959
SUMMARY:Cierre: Contratación de los servicios de mantenimiento y e
DESCRIPTION:Contratación de los servicios de mantenimiento y evolución de los sistemas de informática industrial de IMBISA\\n\\nOrganismo: Imprenta de Billetes\, S.A.\, Medio Propio del Banco de España (IMBISA)\\n\\nVer en Contratero: https://contratero.es/contracts/SOLPED10911
URL:https://contratero.es/contracts/SOLPED10911
STATUS:CONFIRMED
BEGIN:VALARM
TRIGGER:-P1D
ACTION:DISPLAY
DESCRIPTION:Recordatorio: Contratación de los servicios 
END:VALARM
END:VEVENT
END:VCALENDAR