BEGIN:VCALENDAR
VERSION:2.0
PRODID:-//Contratero//ES
CALSCALE:GREGORIAN
METHOD:PUBLISH
BEGIN:VEVENT
UID:SOLPED11704@contratero.es
DTSTAMP:20260420T140416Z
DTSTART:20250908T235959
DTEND:20250909T005959
SUMMARY:Cierre: Servicios de asistencia a almacén general\, manteni
DESCRIPTION:Servicios de asistencia a almacén general\, mantenimiento y programación para los almacenes automáticos de producto intermedio y producto terminado.\\n\\nOrganismo: Imprenta de Billetes\, S.A.\, Medio Propio del Banco de España (IMBISA)\\n\\nVer en Contratero: https://contratero.es/contracts/SOLPED11704
URL:https://contratero.es/contracts/SOLPED11704
STATUS:CONFIRMED
BEGIN:VALARM
TRIGGER:-P1D
ACTION:DISPLAY
DESCRIPTION:Recordatorio: Servicios de asistencia a alma
END:VALARM
END:VEVENT
END:VCALENDAR