BEGIN:VCALENDAR
VERSION:2.0
PRODID:-//Contratero//ES
CALSCALE:GREGORIAN
METHOD:PUBLISH
BEGIN:VEVENT
UID:SP06-SER-2020@contratero.es
DTSTAMP:20260424T074258Z
DTSTART:20201109T235959
DTEND:20201110T005959
SUMMARY:Cierre: Servicio de alojamiento\, acceso\, mantenimiento y s
DESCRIPTION:Servicio de alojamiento\, acceso\, mantenimiento y soporte del sistema de información de clientes (S.I.C.) para EMUASA.\\n\\nOrganismo: Gerencia de la Empresa Municipal de Aguas y Saneamiento de Murcia S.A.\\n\\nVer en Contratero: https://contratero.es/contracts/SP06-SER-2020
URL:https://contratero.es/contracts/SP06-SER-2020
STATUS:CONFIRMED
BEGIN:VALARM
TRIGGER:-P1D
ACTION:DISPLAY
DESCRIPTION:Recordatorio: Servicio de alojamiento\, acces
END:VALARM
END:VEVENT
END:VCALENDAR