BEGIN:VCALENDAR
VERSION:2.0
PRODID:-//Contratero//ES
CALSCALE:GREGORIAN
METHOD:PUBLISH
BEGIN:VEVENT
UID:SPD-2024-036@contratero.es
DTSTAMP:20260424T101056Z
DTSTART:20241202T235959
DTEND:20241203T005959
SUMMARY:Cierre: La Entidad precisa formalizar la contratación de u
DESCRIPTION:La Entidad precisa formalizar la contratación de un servicio de asesoría técnica en logística y redacción de informes y planificación (M&E) para contribuir a la gobernanza migratoria de Nigeria\, en el...\\n\\nOrganismo: Secretaría General de la Fundación Internacional y para Iberoamérica de Administración Políticas Públicas\\n\\nVer en Contratero: https://contratero.es/contracts/SPD-2024-036
URL:https://contratero.es/contracts/SPD-2024-036
STATUS:CONFIRMED
BEGIN:VALARM
TRIGGER:-P1D
ACTION:DISPLAY
DESCRIPTION:Recordatorio: La Entidad precisa formalizar 
END:VALARM
END:VEVENT
END:VCALENDAR