BEGIN:VCALENDAR
VERSION:2.0
PRODID:-//Contratero//ES
CALSCALE:GREGORIAN
METHOD:PUBLISH
BEGIN:VEVENT
UID:SRC/2022/112@contratero.es
DTSTAMP:20260422T194313Z
DTSTART:20220613T235959
DTEND:20220614T005959
SUMMARY:Cierre: Servicio de mantenimiento de la aplicación cortafu
DESCRIPTION:Servicio de mantenimiento de la aplicación cortafuegos del Ayuntamiento de Sueca\\n\\nOrganismo: Alcaldía del Ayuntamiento de Sueca\\n\\nVer en Contratero: https://contratero.es/contracts/SRC/2022/112
URL:https://contratero.es/contracts/SRC/2022/112
STATUS:CONFIRMED
BEGIN:VALARM
TRIGGER:-P1D
ACTION:DISPLAY
DESCRIPTION:Recordatorio: Servicio de mantenimiento de l
END:VALARM
END:VEVENT
END:VCALENDAR