BEGIN:VCALENDAR
VERSION:2.0
PRODID:-//Contratero//ES
CALSCALE:GREGORIAN
METHOD:PUBLISH
BEGIN:VEVENT
UID:SU-04/2025@contratero.es
DTSTAMP:20260422T002114Z
DTSTART:20250613T235959
DTEND:20250614T005959
SUMMARY:Cierre: Suministro y mantenimiento de licencias de softwar
DESCRIPTION:Suministro y mantenimiento de licencias de software de diseño técnico\\n\\nOrganismo: Dirección Gerente de Aguas de Lorca\, S.A.\\n\\nVer en Contratero: https://contratero.es/contracts/SU-04/2025
URL:https://contratero.es/contracts/SU-04/2025
STATUS:CONFIRMED
BEGIN:VALARM
TRIGGER:-P1D
ACTION:DISPLAY
DESCRIPTION:Recordatorio: Suministro y mantenimiento de 
END:VALARM
END:VEVENT
END:VCALENDAR