BEGIN:VCALENDAR
VERSION:2.0
PRODID:-//Contratero//ES
CALSCALE:GREGORIAN
METHOD:PUBLISH
BEGIN:VEVENT
UID:SU-05/2025@contratero.es
DTSTAMP:20260422T085746Z
DTSTART:20250520T235959
DTEND:20250521T005959
SUMMARY:Cierre: Suministro mediante adquisición de la suscripción 
DESCRIPTION:Suministro mediante adquisición de la suscripción de 1 licencia perpetua de software AUTOCAD LT de AUTODESK o SIMILAR y 1 licencia perpetua de software PRESTO de RIB SPAIN o SIMILAR -2 Lotes-\\n\\nOrganismo: Consejo Rector del Instituto de Fomento\, Empleo y Formación de la Ciudad de Cádiz - Ayuntamiento de Cádiz\\n\\nVer en Contratero: https://contratero.es/contracts/SU-05/2025
URL:https://contratero.es/contracts/SU-05/2025
STATUS:CONFIRMED
BEGIN:VALARM
TRIGGER:-P1D
ACTION:DISPLAY
DESCRIPTION:Recordatorio: Suministro mediante adquisició
END:VALARM
END:VEVENT
END:VCALENDAR