BEGIN:VCALENDAR
VERSION:2.0
PRODID:-//Contratero//ES
CALSCALE:GREGORIAN
METHOD:PUBLISH
BEGIN:VEVENT
UID:SU-15/23@contratero.es
DTSTAMP:20260425T113728Z
DTSTART:20230825T235959
DTEND:20230826T005959
SUMMARY:Cierre: Suministro de software integral de gestión de acti
DESCRIPTION:Suministro de software integral de gestión de actividades\, entrenamientos y control estadístico\, de los usuarios del servicio deportivo municipal de Lucena\, así como servicio de soporte técnico y mant...\\n\\nOrganismo: Alcaldía del Ayuntamiento de Lucena\\n\\nVer en Contratero: https://contratero.es/contracts/SU-15/23
URL:https://contratero.es/contracts/SU-15/23
STATUS:CONFIRMED
BEGIN:VALARM
TRIGGER:-P1D
ACTION:DISPLAY
DESCRIPTION:Recordatorio: Suministro de software integra
END:VALARM
END:VEVENT
END:VCALENDAR